BEGIN:VCALENDAR
VERSION:2.0
PRODID:-//Contratero//ES
CALSCALE:GREGORIAN
METHOD:PUBLISH
BEGIN:VEVENT
UID:2025/081 PNS@contratero.es
DTSTAMP:20260421T002214Z
DTSTART:20251121T235959
DTEND:20251122T005959
SUMMARY:Cierre: Servicio de mantenimiento de la herramienta de sof
DESCRIPTION:Servicio de mantenimiento de la herramienta de software EVIEWS\\n\\nOrganismo: Presidencia de la Autoridad Independiente de Responsabilidad Fiscal\\n\\nVer en Contratero: https://contratero.es/contracts/2025/081 PNS
URL:https://contratero.es/contracts/2025/081 PNS
STATUS:CONFIRMED
BEGIN:VALARM
TRIGGER:-P1D
ACTION:DISPLAY
DESCRIPTION:Recordatorio: Servicio de mantenimiento de l
END:VALARM
END:VEVENT
END:VCALENDAR